BEGIN:VCALENDAR
VERSION:2.0
PRODID:-//DMMUK - ECPv6.15.13//NONSGML v1.0//EN
CALSCALE:GREGORIAN
METHOD:PUBLISH
X-ORIGINAL-URL:https://darjimandal.org.uk
X-WR-CALDESC:Events for DMMUK
REFRESH-INTERVAL;VALUE=DURATION:PT1H
X-Robots-Tag:noindex
X-PUBLISHED-TTL:PT1H
BEGIN:VTIMEZONE
TZID:UTC
BEGIN:STANDARD
TZOFFSETFROM:+0000
TZOFFSETTO:+0000
TZNAME:UTC
DTSTART:20230101T000000
END:STANDARD
END:VTIMEZONE
BEGIN:VTIMEZONE
TZID:Europe/London
BEGIN:DAYLIGHT
TZOFFSETFROM:+0000
TZOFFSETTO:+0100
TZNAME:BST
DTSTART:20230326T010000
END:DAYLIGHT
BEGIN:STANDARD
TZOFFSETFROM:+0100
TZOFFSETTO:+0000
TZNAME:GMT
DTSTART:20231029T010000
END:STANDARD
BEGIN:DAYLIGHT
TZOFFSETFROM:+0000
TZOFFSETTO:+0100
TZNAME:BST
DTSTART:20240331T010000
END:DAYLIGHT
BEGIN:STANDARD
TZOFFSETFROM:+0100
TZOFFSETTO:+0000
TZNAME:GMT
DTSTART:20241027T010000
END:STANDARD
BEGIN:DAYLIGHT
TZOFFSETFROM:+0000
TZOFFSETTO:+0100
TZNAME:BST
DTSTART:20250330T010000
END:DAYLIGHT
BEGIN:STANDARD
TZOFFSETFROM:+0100
TZOFFSETTO:+0000
TZNAME:GMT
DTSTART:20251026T010000
END:STANDARD
BEGIN:DAYLIGHT
TZOFFSETFROM:+0000
TZOFFSETTO:+0100
TZNAME:BST
DTSTART:20260329T010000
END:DAYLIGHT
BEGIN:STANDARD
TZOFFSETFROM:+0100
TZOFFSETTO:+0000
TZNAME:GMT
DTSTART:20261025T010000
END:STANDARD
END:VTIMEZONE
BEGIN:VEVENT
DTSTART;TZID=UTC:20250914T150000
DTEND;TZID=UTC:20250914T170000
DTSTAMP:20260423T154321
CREATED:20250807T133340Z
LAST-MODIFIED:20250909T130642Z
UID:10000073-1757862000-1757869200@darjimandal.org.uk
SUMMARY:Shradh Bhajans 2025
DESCRIPTION:Shradh Bhajans \nJoin us for our annual SHRADH BHAJANS for an afternoon of divine Bhajans in remembrance of our loved ones. \n\n\nShradh Bhajans will be held on 14th September 2025\nTime: 3 to 5 pm. \nLight refreshments will be served after the BHAJANS. \nSpaces are limited so please book your tickets early to avoid disappointment. \n\n\n 
URL:https://darjimandal.org.uk/event/shradh-bhajans-2025/
LOCATION:26 Oakthorpe Rd\, London N13 5JL\, 26 Oakthorpe Rd\, London N13 5JL\, London\, N13 5JL\, United Kingdom
CATEGORIES:Events
ATTACH;FMTTYPE=image/png:https://darjimandal.org.uk/wp-content/uploads/2025/08/correct-poster-of-Shradh-Bhajans-Sunday-1.png
END:VEVENT
BEGIN:VEVENT
DTSTART;TZID=Europe/London:20250314T190000
DTEND;TZID=Europe/London:20250314T230000
DTSTAMP:20260423T154321
CREATED:20250202T214313Z
LAST-MODIFIED:20250207T133319Z
UID:10000048-1741978800-1741993200@darjimandal.org.uk
SUMMARY:Friday Club Holi Party Dinner & Dance
DESCRIPTION:Come and celebrate the festival of colours with live music and dance the evening away with family & friends.  Enjoy delicious variety of food\, veg & non-veg. \n\nEntry:\nMembers & their children aged 11 years & over £12.50pp\nNon-members & their children aged 11 years & over £15.00pp\nChildren under 11 years – free \n  \nMenu for Holi Party Friday 14/03/2025 \nVeg – starter     Non- veg – starter\nmethi gota            chicken kebab \nVeg- main         Non- veg – main\nundiyu curry       lamb mince curry\nchana curry \nOthers               Dessert\nbhatura                Ice-cream\ndaal\nrice\nfurfur\ncarrot pickle\nchutney \n  \nFor more information contact:\nBhartiben Tailor:  07736 704 383\nNarendrabhai: 07917 880 289 \nBooking will close on Wednesday\, 12th March 2025 \nFor further information\, please call or email us at info@darjimandal.org.uk \n\nDisclaimer: Tickets are non-refundable and non-transferable. Management reserves the right of admission.
URL:https://darjimandal.org.uk/event/friday-club-holi-party-dinner-dance/
LOCATION:Darji Community Centre\, Oakthorpe Road\, London N13 5JL\, Darji Community Centre\, Oakthorpe Road\, London\, N13 5JL\, United Kingdom
CATEGORIES:Events
ATTACH;FMTTYPE=image/jpeg:https://darjimandal.org.uk/wp-content/uploads/2025/02/Holi-event-2025-e1738525729893.jpeg
END:VEVENT
BEGIN:VEVENT
DTSTART;TZID=Europe/London:20241006T130000
DTEND;TZID=Europe/London:20241006T160000
DTSTAMP:20260423T154321
CREATED:20240911T145251Z
LAST-MODIFIED:20240930T144127Z
UID:10000011-1728219600-1728230400@darjimandal.org.uk
SUMMARY:Bal Navratri 2024
DESCRIPTION:DMMUK are proud to announce Bal–Navratri Celebrations\, a very popular children’s Garba event for all children up to the age of 14yrs to be held at Darji Community Centre\, on Sunday\, 6th October 2024.\n \n\nDandiya Raas and Garba\nBest Dressed Competition\nGames and more\nGifts and Light refreshment\n\nEntry strictly pre-book & pre-paid\nAll Children up to the age of 14yrs: Free  (members and non members)\nAdult members: Free\nAdult non-members: £4 per person \nIf you wish to sponsor this event kindly contact one of the co-ordinators. Thank you in advance! \nVadita Tailor        – 07757 347372\nUrvashi Kapadia – 07550 814677 \n   **** Booking Closed****               **** Booking Closed ****     \n                                This event is Sold Out!\n                                                        
URL:https://darjimandal.org.uk/event/bal-navratri-2024/
LOCATION:Darji Community Centre\, 26 Oakthorpe Road\, London N13 5JL\, Darji Community Centre\, 26 Oathorpe Road\, London\, N13 5JL\, United Kingdom
CATEGORIES:Events
ATTACH;FMTTYPE=image/jpeg:https://darjimandal.org.uk/wp-content/uploads/2024/09/Bal-Navratri-Poster_Vadita-2.jpg
END:VEVENT
BEGIN:VEVENT
DTSTART;VALUE=DATE:20240926
DTEND;VALUE=DATE:20241003
DTSTAMP:20260423T154321
CREATED:20240809T114841Z
LAST-MODIFIED:20241002T095533Z
UID:10000013-1727348400-1727866799@darjimandal.org.uk
SUMMARY:Upcoming Events 2024
DESCRIPTION:  \n  \nSave the dates. \nDetails to follow. \nKind regards \nDMMUK \n  \n 
URL:https://darjimandal.org.uk/event/upcoming-events-2024/
LOCATION:Darji Community Centre\, 26 Oakthorpe Road\, London N13 5JL\, Darji Community Centre\, 26 Oathorpe Road\, London\, N13 5JL\, United Kingdom
CATEGORIES:Events
ATTACH;FMTTYPE=image/png:https://darjimandal.org.uk/wp-content/uploads/2024/08/Upcoming-Events_Vadita-26.09.24-e1727352051423.png
END:VEVENT
BEGIN:VEVENT
DTSTART;TZID=UTC:20240922T150000
DTEND;TZID=UTC:20240922T170000
DTSTAMP:20260423T154321
CREATED:20240812T133008Z
LAST-MODIFIED:20240817T163733Z
UID:10000012-1727017200-1727024400@darjimandal.org.uk
SUMMARY:Shradh Bhajans
DESCRIPTION:  \n\nDMMUK is proud to welcome you to our annual SHRADH BHAJANS in remembrance of departed souls. \n\n\n\n\n 
URL:https://darjimandal.org.uk/event/shradh-bhajans-2024/
LOCATION:26 Oakthorpe Rd\, London N13 5JL\, 26 Oakthorpe Rd\, London N13 5JL\, London\, N13 5JL\, United Kingdom
CATEGORIES:Events
ATTACH;FMTTYPE=image/jpeg:https://darjimandal.org.uk/wp-content/uploads/2024/08/Shradh-v3.jpg
END:VEVENT
BEGIN:VEVENT
DTSTART;VALUE=DATE:20240420
DTEND;VALUE=DATE:20240422
DTSTAMP:20260423T154321
CREATED:20240312T101848Z
LAST-MODIFIED:20240410T141820Z
UID:10000015-1713610800-1713697199@darjimandal.org.uk
SUMMARY:Hanuman Chalisa
DESCRIPTION:Please Note: \nThis Event is now fully Booked. We have been overwhelmed by your support for Hanuman Chalisa.\nThank you to everyone who had booked their tickets by RSVP using our website.\nBookings are now closed. \n\nAny donation towards Ladu Prashad and Shree Deepala Hanuman Satsang Mandal \nwill be greatly appreciated.
URL:https://darjimandal.org.uk/event/hanuman-chalisa/
LOCATION:26 Oakthorpe Rd\, London N13 5JL\, 26 Oakthorpe Rd\, London N13 5JL\, London\, N13 5JL\, United Kingdom
CATEGORIES:Events
ATTACH;FMTTYPE=image/jpeg:https://darjimandal.org.uk/wp-content/uploads/2024/03/Hanuman-Chalisa-20th-April-2024-3.jpg
END:VEVENT
BEGIN:VEVENT
DTSTART;VALUE=DATE:20240317
DTEND;VALUE=DATE:20240319
DTSTAMP:20260423T154321
CREATED:20231129T180243Z
LAST-MODIFIED:20240215T151501Z
UID:10000010-1710673200-1710759599@darjimandal.org.uk
SUMMARY:DMMUK 60+ Dinner
DESCRIPTION:Event Date: Sunday\, 17th March 2024 \nEvent Time: 12:30pm onwards \nThe Darji Mandal are proud to announce our Annual 60+ Dinner Event for our Senior members over 60 years old. \nTo register please download the form\, fill and return it to the address indicated on the form.\nYou may also email us at events@darjimandal.org.uk giving the following details for each person attending: \nFull Name\nAddress\nDate of Birth\nVeg or Non-Veg option\nContact Number\nEmail Address \nPlease pass this information to all senior persons living with you. \nજ્ઞાતિના વડિલો (૬૦ વર્ષ અને ઉપર) માટે ખાસ ભોજન સાંભારમ\nરવિવાર ૧૭ મી માર્ચ મી 2024 બપોરે ૧૨:૩૦ વાગ્યાથી\, દરજી કમ્યૂનિટી હૉલ પર\nહાજરી માટે આપને ખાસ ભલામણકે નીચેની કાપલિ જલદી ભરીપાછી મોકલાવશો આપની હાજરી ઍજ અમારૂ બહુમાન છે \nDownload form Here \nContact one of the following co-ordinators if you have any enquiries. \n\n\n\nBharat T Tailor\n07818 424 720\n\n\nPravin Jivan\n07951 850 727\n\n\nVadita Tailor\n07757 347 372\n\n\nMahendra Kapadia\n07878 522 965
URL:https://darjimandal.org.uk/event/dmmuk-60-dinner/
LOCATION:Darji Community Centre\, 26 Oakthorpe Road\, London N13 5JL\, Darji Community Centre\, 26 Oathorpe Road\, London\, N13 5JL\, United Kingdom
CATEGORIES:Events
ATTACH;FMTTYPE=image/jpeg:https://darjimandal.org.uk/wp-content/uploads/2021/06/IMG-20170717-WA0029.jpg
END:VEVENT
END:VCALENDAR