BEGIN:VCALENDAR
VERSION:2.0
PRODID:-//DMMUK - ECPv6.15.13//NONSGML v1.0//EN
CALSCALE:GREGORIAN
METHOD:PUBLISH
X-WR-CALNAME:DMMUK
X-ORIGINAL-URL:https://darjimandal.org.uk
X-WR-CALDESC:Events for DMMUK
REFRESH-INTERVAL;VALUE=DURATION:PT1H
X-Robots-Tag:noindex
X-PUBLISHED-TTL:PT1H
BEGIN:VTIMEZONE
TZID:Europe/London
BEGIN:DAYLIGHT
TZOFFSETFROM:+0000
TZOFFSETTO:+0100
TZNAME:BST
DTSTART:20240331T010000
END:DAYLIGHT
BEGIN:STANDARD
TZOFFSETFROM:+0100
TZOFFSETTO:+0000
TZNAME:GMT
DTSTART:20241027T010000
END:STANDARD
BEGIN:DAYLIGHT
TZOFFSETFROM:+0000
TZOFFSETTO:+0100
TZNAME:BST
DTSTART:20250330T010000
END:DAYLIGHT
BEGIN:STANDARD
TZOFFSETFROM:+0100
TZOFFSETTO:+0000
TZNAME:GMT
DTSTART:20251026T010000
END:STANDARD
BEGIN:DAYLIGHT
TZOFFSETFROM:+0000
TZOFFSETTO:+0100
TZNAME:BST
DTSTART:20260329T010000
END:DAYLIGHT
BEGIN:STANDARD
TZOFFSETFROM:+0100
TZOFFSETTO:+0000
TZNAME:GMT
DTSTART:20261025T010000
END:STANDARD
END:VTIMEZONE
BEGIN:VEVENT
DTSTART;TZID=Europe/London:20250816T180000
DTEND;TZID=Europe/London:20250816T230000
DTSTAMP:20260425T120026
CREATED:20250703T184126Z
LAST-MODIFIED:20250816T172330Z
UID:10000069-1755367200-1755385200@darjimandal.org.uk
SUMMARY:Krishna Janmashtami on Saturday 16th August 2025
DESCRIPTION:Book Your Tickets Online Now\nDMMUK PRESENTS:\nKrishna Janmashtami on Saturday\, 16th August 2025\n“We warmly welcome all families\, friends\, relatives\, and children to join us to celebrate this auspicious day.” \n                                                                         “COME AND SWING LADDU GOPAL’S JHULA” \nTiming: 6.00 pm to 10.00 pm\nFollowed by Maha Prashad items to be served:\nMoraiyo khichadi\nBateta shak\nMogo\nFarari puri\nShrikhand \nAll children (up to the age of 10 ) attending dressed up as “Krishna” will receive a Free gift. \nJoin us\n\nCelebrated on the eighth day (Ashtami) of the dark fortnight in the month of Bhadrapada (August–September).\nKrishna’s birth symbolizes divine intervention to restore dharma (righteousness) and defeat evil\, especially the tyrant King Kansa.\nHis teachings in the Bhagavad Gita emphasize living with purpose\, detachment\, and devotion.\n\nContact  Mahendra Kapadia 07878522965 or Shilaben Tailor 07834234340 \n 
URL:https://darjimandal.org.uk/event/krishna-janmasthami-on-saturday-16th-august-2025/
LOCATION:Darji Community Centre\, Oakthorpe Road\, London N13 5JL\, Darji Community Centre\, Oakthorpe Road\, London\, N13 5JL\, United Kingdom
CATEGORIES:Events
ATTACH;FMTTYPE=image/png:https://darjimandal.org.uk/wp-content/uploads/2025/07/New-poster-to-go-on-web.png
END:VEVENT
END:VCALENDAR