BEGIN:VCALENDAR
VERSION:2.0
PRODID:-//DMMUK - ECPv6.15.13//NONSGML v1.0//EN
CALSCALE:GREGORIAN
METHOD:PUBLISH
X-ORIGINAL-URL:https://darjimandal.org.uk
X-WR-CALDESC:Events for DMMUK
REFRESH-INTERVAL;VALUE=DURATION:PT1H
X-Robots-Tag:noindex
X-PUBLISHED-TTL:PT1H
BEGIN:VTIMEZONE
TZID:Europe/London
BEGIN:DAYLIGHT
TZOFFSETFROM:+0000
TZOFFSETTO:+0100
TZNAME:BST
DTSTART:20240331T010000
END:DAYLIGHT
BEGIN:STANDARD
TZOFFSETFROM:+0100
TZOFFSETTO:+0000
TZNAME:GMT
DTSTART:20241027T010000
END:STANDARD
BEGIN:DAYLIGHT
TZOFFSETFROM:+0000
TZOFFSETTO:+0100
TZNAME:BST
DTSTART:20250330T010000
END:DAYLIGHT
BEGIN:STANDARD
TZOFFSETFROM:+0100
TZOFFSETTO:+0000
TZNAME:GMT
DTSTART:20251026T010000
END:STANDARD
BEGIN:DAYLIGHT
TZOFFSETFROM:+0000
TZOFFSETTO:+0100
TZNAME:BST
DTSTART:20260329T010000
END:DAYLIGHT
BEGIN:STANDARD
TZOFFSETFROM:+0100
TZOFFSETTO:+0000
TZNAME:GMT
DTSTART:20261025T010000
END:STANDARD
END:VTIMEZONE
BEGIN:VEVENT
DTSTART;TZID=Europe/London:20250727T143000
DTEND;TZID=Europe/London:20250727T160000
DTSTAMP:20260421T163753
CREATED:20250602T182229Z
LAST-MODIFIED:20250804T085516Z
UID:10000063-1753626600-1753632000@darjimandal.org.uk
SUMMARY:DMMUK  AGM meeting Sunday\, 27th July 2025 at 2.30pm to 4.00pm.
DESCRIPTION:DMMUK  AGM: ANNUAL GENERAL  MEETING\nSunday\, 27 July 2025\, from 2:30 pm to 4:00 pm.\nAGM 2025 Notification and Nomination Form\nAGM-2025-Notification-and-Nomination-Form-final\n\n\n\n\n 
URL:https://darjimandal.org.uk/event/dmmuk-agm-meeting-sunday-15th-june-2025-at-2-30pm-to-4-00pm/
LOCATION:26 Oakthorpe Rd\, London N13 5JL\, 26 Oakthorpe Rd\, London N13 5JL\, London\, N13 5JL\, United Kingdom
CATEGORIES:Events
ATTACH;FMTTYPE=image/png:https://darjimandal.org.uk/wp-content/uploads/2021/04/DMMUK_Lilac_RGB_Medium_SideLogo_150dpi-removebg-preview.png
END:VEVENT
END:VCALENDAR